BEGIN:VCALENDAR
VERSION:2.0
PRODID:-//Lincolnway Special Recreation Association - ECPv6.15.20//NONSGML v1.0//EN
CALSCALE:GREGORIAN
METHOD:PUBLISH
X-WR-CALNAME:Lincolnway Special Recreation Association
X-ORIGINAL-URL:https://lwsra.org
X-WR-CALDESC:Events for Lincolnway Special Recreation Association
REFRESH-INTERVAL;VALUE=DURATION:PT1H
X-Robots-Tag:noindex
X-PUBLISHED-TTL:PT1H
BEGIN:VTIMEZONE
TZID:America/Chicago
BEGIN:DAYLIGHT
TZOFFSETFROM:-0600
TZOFFSETTO:-0500
TZNAME:CDT
DTSTART:20220313T080000
END:DAYLIGHT
BEGIN:STANDARD
TZOFFSETFROM:-0500
TZOFFSETTO:-0600
TZNAME:CST
DTSTART:20221106T070000
END:STANDARD
BEGIN:DAYLIGHT
TZOFFSETFROM:-0600
TZOFFSETTO:-0500
TZNAME:CDT
DTSTART:20230312T080000
END:DAYLIGHT
BEGIN:STANDARD
TZOFFSETFROM:-0500
TZOFFSETTO:-0600
TZNAME:CST
DTSTART:20231105T070000
END:STANDARD
BEGIN:DAYLIGHT
TZOFFSETFROM:-0600
TZOFFSETTO:-0500
TZNAME:CDT
DTSTART:20240310T080000
END:DAYLIGHT
BEGIN:STANDARD
TZOFFSETFROM:-0500
TZOFFSETTO:-0600
TZNAME:CST
DTSTART:20241103T070000
END:STANDARD
END:VTIMEZONE
BEGIN:VEVENT
DTSTART;TZID=America/Chicago:20230408T083000
DTEND;TZID=America/Chicago:20230408T094500
DTSTAMP:20260425T211629
CREATED:20230228T204920Z
LAST-MODIFIED:20230313T212933Z
UID:7146-1680942600-1680947100@lwsra.org
SUMMARY:LWSRF Bunny Breakfast
DESCRIPTION:The Lincolnway Special Recreation Foundation invites you to celebrate with the Easter Bunny! This year’s activities include photos with the bunny\, delicious breakfast\, egg hunt\, face painting\, holiday crafts and games! Purchase tickets for one of three time slots.
URL:https://lwsra.org/event/bunny-breakfast-2023/
LOCATION:LWSRC\, 1900 Heather Glen Dr\, New Lenox\, IL\, 60451\, United States
CATEGORIES:Community Events,Family Events,Featured,Foundation Events,Fundraisers
ATTACH;FMTTYPE=image/png:https://lwsra.org/wp-content/uploads/2023/01/egg.png
ORGANIZER;CN="Lincolnway Special Recreation Foundation":MAILTO:foundation@lwsra.org
END:VEVENT
END:VCALENDAR