BEGIN:VCALENDAR
VERSION:2.0
PRODID:-//Lincolnway Special Recreation Association - ECPv6.15.20//NONSGML v1.0//EN
CALSCALE:GREGORIAN
METHOD:PUBLISH
X-WR-CALNAME:Lincolnway Special Recreation Association
X-ORIGINAL-URL:https://lwsra.org
X-WR-CALDESC:Events for Lincolnway Special Recreation Association
REFRESH-INTERVAL;VALUE=DURATION:PT1H
X-Robots-Tag:noindex
X-PUBLISHED-TTL:PT1H
BEGIN:VTIMEZONE
TZID:America/Chicago
BEGIN:DAYLIGHT
TZOFFSETFROM:-0600
TZOFFSETTO:-0500
TZNAME:CDT
DTSTART:20210314T080000
END:DAYLIGHT
BEGIN:STANDARD
TZOFFSETFROM:-0500
TZOFFSETTO:-0600
TZNAME:CST
DTSTART:20211107T070000
END:STANDARD
BEGIN:DAYLIGHT
TZOFFSETFROM:-0600
TZOFFSETTO:-0500
TZNAME:CDT
DTSTART:20220313T080000
END:DAYLIGHT
BEGIN:STANDARD
TZOFFSETFROM:-0500
TZOFFSETTO:-0600
TZNAME:CST
DTSTART:20221106T070000
END:STANDARD
BEGIN:DAYLIGHT
TZOFFSETFROM:-0600
TZOFFSETTO:-0500
TZNAME:CDT
DTSTART:20230312T080000
END:DAYLIGHT
BEGIN:STANDARD
TZOFFSETFROM:-0500
TZOFFSETTO:-0600
TZNAME:CST
DTSTART:20231105T070000
END:STANDARD
END:VTIMEZONE
BEGIN:VEVENT
DTSTART;TZID=America/Chicago:20221212T180000
DTEND;TZID=America/Chicago:20221212T203000
DTSTAMP:20260425T182107
CREATED:20220819T181820Z
LAST-MODIFIED:20220819T181838Z
UID:4854-1670868000-1670877000@lwsra.org
SUMMARY:Family Holiday Party
DESCRIPTION:‘Tis the season to spend with the LWSRA family. Dine-in the LWSRC\, tour the holiday lights of Heather Glen and enjoy a variety of crafts\, activities and games with Santa’s elves. Take photos with the big man himself. All LWSRA participants and each of their siblings under the age of 12 will receive a holiday gift. \nAll Ages\nStaff supervision is not provided. Please register each person attending. \nResidents: $8 \nNon-Residents: $10
URL:https://lwsra.org/event/family-holiday-party/
LOCATION:LWSRC\, 1900 Heather Glen Dr\, New Lenox\, IL\, 60451\, United States
CATEGORIES:Featured,Programs
ATTACH;FMTTYPE=image/jpeg:https://lwsra.org/wp-content/uploads/2022/08/holidayparty-scaled.jpg
END:VEVENT
END:VCALENDAR