BEGIN:VCALENDAR
VERSION:2.0
PRODID:-//Lincolnway Special Recreation Association - ECPv6.15.20//NONSGML v1.0//EN
CALSCALE:GREGORIAN
METHOD:PUBLISH
X-WR-CALNAME:Lincolnway Special Recreation Association
X-ORIGINAL-URL:https://lwsra.org
X-WR-CALDESC:Events for Lincolnway Special Recreation Association
REFRESH-INTERVAL;VALUE=DURATION:PT1H
X-Robots-Tag:noindex
X-PUBLISHED-TTL:PT1H
BEGIN:VTIMEZONE
TZID:America/Chicago
BEGIN:DAYLIGHT
TZOFFSETFROM:-0600
TZOFFSETTO:-0500
TZNAME:CDT
DTSTART:20250309T080000
END:DAYLIGHT
BEGIN:STANDARD
TZOFFSETFROM:-0500
TZOFFSETTO:-0600
TZNAME:CST
DTSTART:20251102T070000
END:STANDARD
BEGIN:DAYLIGHT
TZOFFSETFROM:-0600
TZOFFSETTO:-0500
TZNAME:CDT
DTSTART:20260308T080000
END:DAYLIGHT
BEGIN:STANDARD
TZOFFSETFROM:-0500
TZOFFSETTO:-0600
TZNAME:CST
DTSTART:20261101T070000
END:STANDARD
BEGIN:DAYLIGHT
TZOFFSETFROM:-0600
TZOFFSETTO:-0500
TZNAME:CDT
DTSTART:20270314T080000
END:DAYLIGHT
BEGIN:STANDARD
TZOFFSETFROM:-0500
TZOFFSETTO:-0600
TZNAME:CST
DTSTART:20271107T070000
END:STANDARD
END:VTIMEZONE
BEGIN:VEVENT
DTSTART;VALUE=DATE:20260416
DTEND;VALUE=DATE:20260419
DTSTAMP:20260425T114603
CREATED:20260330T191736Z
LAST-MODIFIED:20260330T192400Z
UID:13034-1776297600-1776556799@lwsra.org
SUMMARY:Imagination Cultural Arts Weekend 2026
DESCRIPTION:Imagination Weekend is a celebration of creativity\, talent\, and self-expression at LWSRA! The weekend kicks off on Thursday with our Titans Art Gala\, where participants in our Titans Adult Day Program showcase and sell their handmade crafts and artwork—highlighting their creativity and entrepreneurial spirit. \nThe excitement continues on Friday and Saturday as our Hawks Production takes the stage with performances of Sing and Sing 2. These high-energy shows feature our talented participants bringing music\, dance\, and storytelling to life in a fun and entertaining production for all to enjoy. \nJoin us for a weekend filled with art\, performance\, and imagination! 🎭✨
URL:https://lwsra.org/event/imagination/
LOCATION:LWSRC\, 1900 Heather Glen Dr\, New Lenox\, IL\, 60451\, United States
CATEGORIES:Featured,Hawklings Early Childhood,Programs
ATTACH;FMTTYPE=image/jpeg:https://lwsra.org/wp-content/uploads/2022/03/DSC_0106b.jpg
END:VEVENT
END:VCALENDAR