BEGIN:VCALENDAR
VERSION:2.0
PRODID:-//Lincolnway Special Recreation Association - ECPv6.15.20//NONSGML v1.0//EN
CALSCALE:GREGORIAN
METHOD:PUBLISH
X-WR-CALNAME:Lincolnway Special Recreation Association
X-ORIGINAL-URL:https://lwsra.org
X-WR-CALDESC:Events for Lincolnway Special Recreation Association
REFRESH-INTERVAL;VALUE=DURATION:PT1H
X-Robots-Tag:noindex
X-PUBLISHED-TTL:PT1H
BEGIN:VTIMEZONE
TZID:America/Chicago
BEGIN:DAYLIGHT
TZOFFSETFROM:-0600
TZOFFSETTO:-0500
TZNAME:CDT
DTSTART:20210314T080000
END:DAYLIGHT
BEGIN:STANDARD
TZOFFSETFROM:-0500
TZOFFSETTO:-0600
TZNAME:CST
DTSTART:20211107T070000
END:STANDARD
BEGIN:DAYLIGHT
TZOFFSETFROM:-0600
TZOFFSETTO:-0500
TZNAME:CDT
DTSTART:20220313T080000
END:DAYLIGHT
BEGIN:STANDARD
TZOFFSETFROM:-0500
TZOFFSETTO:-0600
TZNAME:CST
DTSTART:20221106T070000
END:STANDARD
BEGIN:DAYLIGHT
TZOFFSETFROM:-0600
TZOFFSETTO:-0500
TZNAME:CDT
DTSTART:20230312T080000
END:DAYLIGHT
BEGIN:STANDARD
TZOFFSETFROM:-0500
TZOFFSETTO:-0600
TZNAME:CST
DTSTART:20231105T070000
END:STANDARD
END:VTIMEZONE
BEGIN:VEVENT
DTSTART;TZID=America/Chicago:20221029T100000
DTEND;TZID=America/Chicago:20221029T130000
DTSTAMP:20260425T195326
CREATED:20220819T182523Z
LAST-MODIFIED:20220928T184814Z
UID:4858-1667037600-1667048400@lwsra.org
SUMMARY:Trunk or Treat
DESCRIPTION:Put on your costume and trick or treat from car to car. Outdoor trick or treating is FREE! Extra indoor activities are available for $5 per user. Event moves inside if inclement weather. \nSensory Friendly Time: 10am-11am \nOpen to Public: 11am-1pm. \nFeatured Trunk Sponsor – $25 | Family & Friends Trunk – FREE \nFamily Fun Pack – $5 per user (for extra indoor activities) includes mini spook house\, face painting\, craft\, games & more!\n*children 2 & under and caregivers are free. \nRegister for a Trunk or purchase a Family Fun Pack here: https://lwsra.kindful.com/e/trunk-or-treat-2022
URL:https://lwsra.org/event/trunk-or-treat-2022/
LOCATION:LWSRC\, 1900 Heather Glen Dr\, New Lenox\, IL\, 60451\, United States
CATEGORIES:Community Events,Featured
ATTACH;FMTTYPE=image/png:https://lwsra.org/wp-content/uploads/2022/08/trunkortreat.png
END:VEVENT
END:VCALENDAR