BEGIN:VCALENDAR
VERSION:2.0
PRODID:-//Lincolnway Special Recreation Association - ECPv6.15.20//NONSGML v1.0//EN
CALSCALE:GREGORIAN
METHOD:PUBLISH
X-ORIGINAL-URL:https://lwsra.org
X-WR-CALDESC:Events for Lincolnway Special Recreation Association
REFRESH-INTERVAL;VALUE=DURATION:PT1H
X-Robots-Tag:noindex
X-PUBLISHED-TTL:PT1H
BEGIN:VTIMEZONE
TZID:America/Chicago
BEGIN:DAYLIGHT
TZOFFSETFROM:-0600
TZOFFSETTO:-0500
TZNAME:CDT
DTSTART:20250309T080000
END:DAYLIGHT
BEGIN:STANDARD
TZOFFSETFROM:-0500
TZOFFSETTO:-0600
TZNAME:CST
DTSTART:20251102T070000
END:STANDARD
BEGIN:DAYLIGHT
TZOFFSETFROM:-0600
TZOFFSETTO:-0500
TZNAME:CDT
DTSTART:20260308T080000
END:DAYLIGHT
BEGIN:STANDARD
TZOFFSETFROM:-0500
TZOFFSETTO:-0600
TZNAME:CST
DTSTART:20261101T070000
END:STANDARD
BEGIN:DAYLIGHT
TZOFFSETFROM:-0600
TZOFFSETTO:-0500
TZNAME:CDT
DTSTART:20270314T080000
END:DAYLIGHT
BEGIN:STANDARD
TZOFFSETFROM:-0500
TZOFFSETTO:-0600
TZNAME:CST
DTSTART:20271107T070000
END:STANDARD
END:VTIMEZONE
BEGIN:VEVENT
DTSTART;TZID=America/Chicago:20260404T083000
DTEND;TZID=America/Chicago:20260404T124500
DTSTAMP:20260425T150454
CREATED:20260219T214521Z
LAST-MODIFIED:20260219T214646Z
UID:12895-1775291400-1775306700@lwsra.org
SUMMARY:Bunny Breakfast
DESCRIPTION:The Lincolnway Special Recreation Foundation’s annual Bunny Breakfast on Saturday\, April 4 2026. \nThis year’s activities include taking pictures with the Easter bunny\, eating a delicious breakfast (provided by Pony Express and Gost Coffee)\, *egg hunt\, *petting zoo\, and participating in holiday crafts and games. Please bring your own basket!\n*weather permitting (participants will still go home with 5 eggs if unable to hold egg hunt outside) \nPurchase tickets for the whole family at one of the following timeslots: \n8:30-9:45am\n10-11:15am\n11:30am-12:45pm \nCost is $15/ticket (ages 2 and under are free) \n\nAdd-ons:  \nTake Home Lamb ($20) \nPurchase your lamb online and pick-up the day of the event. The “build-a-lamb” comes with the lamb\, stuffing\, heart\, and certificate for children to assemble at home. *Orders must be placed by March 20th. They will not be available for purchase day of event. \nTake Home Bunny Bags ($10) \nPurchase your Bunny Bag online and pick-up the day of the event. Bunny Bags include a variety of simple holiday activities and toys. \n*Bunny Bags may be available for purchase day of while supplies last. \nSponsorships: \nSponsorships are available. Please select the 8:30am timeslot then click sponsorships to see all options.
URL:https://lwsra.org/event/bunny-breakfast-2/
LOCATION:LWSRC\, 1900 Heather Glen Dr\, New Lenox\, IL\, 60451\, United States
CATEGORIES:Community Events,Family Events,Featured
ATTACH;FMTTYPE=image/png:https://lwsra.org/wp-content/uploads/2025/03/Event-image-2025-bunny-breakfast-1152-x-648-px-e1773610610774.png
ORGANIZER;CN="Lincolnway Special Recreation Foundation":MAILTO:foundation@lwsra.org
END:VEVENT
END:VCALENDAR