BEGIN:VCALENDAR
VERSION:2.0
PRODID:-//Lincolnway Special Recreation Association - ECPv6.15.20//NONSGML v1.0//EN
CALSCALE:GREGORIAN
METHOD:PUBLISH
X-ORIGINAL-URL:https://lwsra.org
X-WR-CALDESC:Events for Lincolnway Special Recreation Association
REFRESH-INTERVAL;VALUE=DURATION:PT1H
X-Robots-Tag:noindex
X-PUBLISHED-TTL:PT1H
BEGIN:VTIMEZONE
TZID:America/Chicago
BEGIN:DAYLIGHT
TZOFFSETFROM:-0600
TZOFFSETTO:-0500
TZNAME:CDT
DTSTART:20200308T080000
END:DAYLIGHT
BEGIN:STANDARD
TZOFFSETFROM:-0500
TZOFFSETTO:-0600
TZNAME:CST
DTSTART:20201101T070000
END:STANDARD
BEGIN:DAYLIGHT
TZOFFSETFROM:-0600
TZOFFSETTO:-0500
TZNAME:CDT
DTSTART:20210314T080000
END:DAYLIGHT
BEGIN:STANDARD
TZOFFSETFROM:-0500
TZOFFSETTO:-0600
TZNAME:CST
DTSTART:20211107T070000
END:STANDARD
BEGIN:DAYLIGHT
TZOFFSETFROM:-0600
TZOFFSETTO:-0500
TZNAME:CDT
DTSTART:20220313T080000
END:DAYLIGHT
BEGIN:STANDARD
TZOFFSETFROM:-0500
TZOFFSETTO:-0600
TZNAME:CST
DTSTART:20221106T070000
END:STANDARD
BEGIN:DAYLIGHT
TZOFFSETFROM:-0600
TZOFFSETTO:-0500
TZNAME:CDT
DTSTART:20230312T080000
END:DAYLIGHT
BEGIN:STANDARD
TZOFFSETFROM:-0500
TZOFFSETTO:-0600
TZNAME:CST
DTSTART:20231105T070000
END:STANDARD
BEGIN:DAYLIGHT
TZOFFSETFROM:-0600
TZOFFSETTO:-0500
TZNAME:CDT
DTSTART:20240310T080000
END:DAYLIGHT
BEGIN:STANDARD
TZOFFSETFROM:-0500
TZOFFSETTO:-0600
TZNAME:CST
DTSTART:20241103T070000
END:STANDARD
BEGIN:DAYLIGHT
TZOFFSETFROM:-0600
TZOFFSETTO:-0500
TZNAME:CDT
DTSTART:20250309T080000
END:DAYLIGHT
BEGIN:STANDARD
TZOFFSETFROM:-0500
TZOFFSETTO:-0600
TZNAME:CST
DTSTART:20251102T070000
END:STANDARD
BEGIN:DAYLIGHT
TZOFFSETFROM:-0600
TZOFFSETTO:-0500
TZNAME:CDT
DTSTART:20260308T080000
END:DAYLIGHT
BEGIN:STANDARD
TZOFFSETFROM:-0500
TZOFFSETTO:-0600
TZNAME:CST
DTSTART:20261101T070000
END:STANDARD
END:VTIMEZONE
BEGIN:VEVENT
DTSTART;TZID=America/Chicago:20251214T103000
DTEND;TZID=America/Chicago:20251214T170000
DTSTAMP:20260425T212903
CREATED:20251029T160602Z
LAST-MODIFIED:20251029T160602Z
UID:12249-1765708200-1765731600@lwsra.org
SUMMARY:Day with the Grinch 2025
DESCRIPTION:He’s back at it\, ready to steal Christmas! \nSteal Christmas with the Grinch at one of the available time slots on Sunday\, December 14\, 2025:\nActivities include Pizza Who Feast\, picture with the Grinch\, stolen ornament craft\, grinchy face painting\, Cindy Lou Who hair\, and much more!  \n10:30-11:45am \n12:15-1:30pm\n2-3:15pm\n3:45-5pm \nA maximum of 225 tickets will be sold per timeslot to encourage a more inclusive setting for families of individuals with disabilities. \nEVENT LOCATION\nLincolnway Special Recreation Center\n1900 Heather Glen Drive\nNew Lenox\, IL 60451 \nAdd-ons:\nPurchase a Grinchy Face Paint Voucher.\nPre-purchase a take home stuff-your-own Grinch Bear activity. \nSponsorship Opportunities available once you select a timeslot (sponsorships cover the all day event\, not just that time slot)
URL:https://lwsra.org/event/day-with-the-grinch-2025/
LOCATION:LWSRC\, 1900 Heather Glen Dr\, New Lenox\, IL\, 60451\, United States
CATEGORIES:Community Events,Family Events,Featured,Fundraisers
ATTACH;FMTTYPE=image/jpeg:https://lwsra.org/wp-content/uploads/2024/10/grinchevent.jpg
END:VEVENT
BEGIN:VEVENT
DTSTART;TZID=America/Chicago:20250921T080000
DTEND;TZID=America/Chicago:20250921T120000
DTSTAMP:20260425T212903
CREATED:20250702T144053Z
LAST-MODIFIED:20250702T144338Z
UID:11800-1758441600-1758456000@lwsra.org
SUMMARY:I Can Du It! Adaptive Duathlon
DESCRIPTION:An adaptive duathlon (a modified run-bike-run race) for children and young adults ages 4-30 with developmental disabilities and special needs. \nParticipants of all abilities are welcome to race with or without adaptive equipment such as wheelchairs\, walkers\, adapted bikes\, bikes with training wheels\, or other assistive devices. \n\n\nHosted by BDI Playhouse Children’s Therapy & Lincolnway Special Recreation Association \n\n\n\nWe are excited to announce that all race profits will be donated to Lincolnway Special Recreation Association! \nRegistration available at the event site link below. \n\nVolunteer opportunities available at this link: https://lwsra.org/volunteer/i-can-du-it-adaptive-duathlon-2025/
URL:https://lwsra.org/event/i-can-du-it-adaptive-duathlon/
LOCATION:LWSRC\, 1900 Heather Glen Dr\, New Lenox\, IL\, 60451\, United States
CATEGORIES:Featured,Fundraisers
ATTACH;FMTTYPE=image/jpeg:https://lwsra.org/wp-content/uploads/2025/07/adaptive-duathlon-2025.jpg
END:VEVENT
BEGIN:VEVENT
DTSTART;TZID=America/Chicago:20250808T093000
DTEND;TZID=America/Chicago:20250808T173000
DTSTAMP:20260425T212903
CREATED:20250512T170344Z
LAST-MODIFIED:20250512T170408Z
UID:11686-1754645400-1754674200@lwsra.org
SUMMARY:LWSRF Golf Outing @ The Sanctuary
DESCRIPTION:Event Schedule \nAugust 8th @ The Sanctuary Golf Course \nEarly Bird Pricing: $720 per foursome\nAfter May 16th: $760 per foursome \nCheck in: 9:30am \nCoffee and complimentary driving range and putting green available until shotgun start \nShotgun Start: 11am\n18 holes of golf\, contests on the course\, hot dog lunch to-go at the turn and complimentary beverage carts included \nGame Wristbands: $40\nIncludes participation in all games on the course.\n(wristbands may be purchased below or the day of)\n \nDinner: 4:30pm (approximate)\nDinner\, contest hole and raffle prize winners announced. \nRaffle tickets will be sold throughout the event with prizes to be raffled following dinner. \nNumerous sponsorship opportunities are available \nFor additional information:\nClick here to contact us via email
URL:https://lwsra.org/event/lwsrf-golf-outing-8-8-25/
LOCATION:The Sanctuary Golf Course\, 485 N Marley Rd\, New Lenox\, IL\, 60451\, United States
CATEGORIES:Community Events,Featured,Foundation Events,Fundraisers
ATTACH;FMTTYPE=image/png:https://lwsra.org/wp-content/uploads/2025/05/website-image-Golf-Outings-1.png
ORGANIZER;CN="Lincolnway Special Recreation Foundation":MAILTO:foundation@lwsra.org
END:VEVENT
BEGIN:VEVENT
DTSTART;TZID=America/Chicago:20250711T093000
DTEND;TZID=America/Chicago:20250711T173000
DTSTAMP:20260425T212903
CREATED:20250512T170001Z
LAST-MODIFIED:20250512T170450Z
UID:11680-1752226200-1752255000@lwsra.org
SUMMARY:LWSRF Golf Outing @ Green Garden
DESCRIPTION:Event Schedule \nJuly 11th @ Green Garden \nEarly Bird Pricing: $720 per foursome\nAfter May 16th: $760 per foursome \nCheck in: 9:30am \nCoffee and complimentary driving range and putting green available until shotgun start \nShotgun Start: 11am\n18 holes of golf\, contests on the course\, hot dog lunch to-go at the turn and complimentary beverage carts included \nGame Wristbands: $40\nIncludes participation in all games on the course.\n(wristbands may be purchased below or the day of)\n \nDinner: 4:30pm (approximate)\nDinner\, contest hole and raffle prize winners announced. \nRaffle tickets will be sold throughout the event with prizes to be raffled following dinner. \nNumerous sponsorship opportunities are available \nFor additional information:\nClick here to contact us via email
URL:https://lwsra.org/event/lwsrf-golf-outing-7-11-25/
LOCATION:Green Garden Country Club\, 9511 W Manhattan-Monee Rd\, Frankfort\, IL\, 60423\, United States
CATEGORIES:Community Events,Featured,Foundation Events,Fundraisers
ATTACH;FMTTYPE=image/png:https://lwsra.org/wp-content/uploads/2025/05/website-image-Golf-Outings-1.png
ORGANIZER;CN="Lincolnway Special Recreation Foundation":MAILTO:foundation@lwsra.org
END:VEVENT
BEGIN:VEVENT
DTSTART;TZID=America/Chicago:20250313T070000
DTEND;TZID=America/Chicago:20250313T210000
DTSTAMP:20260425T212903
CREATED:20250310T190313Z
LAST-MODIFIED:20250310T190908Z
UID:11549-1741849200-1741899600@lwsra.org
SUMMARY:Dine & Donate @ Panera Bread
DESCRIPTION:The Lincolnway Special Recreation Foundation’s monthly dine and donate fundraiser takes place at Panera Bread of Frankfort on Thursday\, March 13\, 2025. \n20% of net sales will be donated to LWSRF when you use code FUND4U at panerabread.com\, in the Panera App\, or at the kiosk in-cafe. \nYou may also bring or show the digital copy of the flyer image to the cashier to ensure LWSRF receives their donation.
URL:https://lwsra.org/event/dine-donate-panera-bread/
LOCATION:Panera Bread – Frankfort\, IL\, 11069 W Lincoln Hwy\, Frankfort\, IL\, 60423\, United States
CATEGORIES:Featured,Foundation Events,Fundraisers
ATTACH;FMTTYPE=image/jpeg:https://lwsra.org/wp-content/uploads/2025/03/2025-03-13-PanDD16x9.jpg
ORGANIZER;CN="Lincolnway Special Recreation Foundation":MAILTO:foundation@lwsra.org
END:VEVENT
BEGIN:VEVENT
DTSTART;TZID=America/Chicago:20241215T103000
DTEND;TZID=America/Chicago:20241215T170000
DTSTAMP:20260425T212903
CREATED:20241017T180537Z
LAST-MODIFIED:20241017T180952Z
UID:10783-1734258600-1734282000@lwsra.org
SUMMARY:Day with the Grinch 2024
DESCRIPTION:He’s back at it\, ready to steal Christmas! \nSteal Christmas with the Grinch at one of the available time slots on Sunday\, December 15th:\nActivities include Pizza Who Feast\, picture with the Grinch\, stolen ornament craft\, grinchy face painting\, Cindy Lou Who hair\, and much more!  \n10:30-11:45am \n12:15-1:30pm\n2-3:15pm\n3:45-5pm \nA maximum of 225 tickets will be sold per timeslot to encourage a more inclusive setting for families of individuals with disabilities. \nEVENT LOCATION\nLincolnway Special Recreation Center\n1900 Heather Glen Drive\nNew Lenox\, IL 60451 \nAdd-ons:\nPre-purchase a take home Grinch Stocking containing small holiday themed activities. \nSponsorship Opportunities available once you select a timeslot (sponsorships cover the all day event\, not just that time slot)
URL:https://lwsra.org/event/day-with-the-grinch-2024/
LOCATION:LWSRC\, 1900 Heather Glen Dr\, New Lenox\, IL\, 60451\, United States
CATEGORIES:Community Events,Family Events,Featured,Fundraisers
ATTACH;FMTTYPE=image/jpeg:https://lwsra.org/wp-content/uploads/2024/10/grinchevent.jpg
END:VEVENT
BEGIN:VEVENT
DTSTART;TZID=America/Chicago:20240911T160000
DTEND;TZID=America/Chicago:20240911T200000
DTSTAMP:20260425T212903
CREATED:20240911T161344Z
LAST-MODIFIED:20240911T161634Z
UID:10710-1726070400-1726084800@lwsra.org
SUMMARY:Chipotle Dining Fundraiser
DESCRIPTION:At the Frankfort\, IL location only – dine-out or pick-up your online order from the Frankfort location on Wednesday\, September 11th and either show this flyer or using online pick-up code XLPEPZF between 4-8pm and 25% of your order will be donated to the Lincolnway Special Recreation Foundation! \n  \nWednesday\, September 11th – 4-8pm \nChipotle of Frankfort\n11129 W Lincoln Hwy\, Frankfort\, IL 60423 \nView Flyer
URL:https://lwsra.org/event/chipotle-dining-fundraiser/
LOCATION:IL
CATEGORIES:Community Events,Family Events,Featured,Foundation Events,Fundraisers
END:VEVENT
BEGIN:VEVENT
DTSTART;TZID=America/Chicago:20230408T083000
DTEND;TZID=America/Chicago:20230408T094500
DTSTAMP:20260425T212903
CREATED:20230228T204920Z
LAST-MODIFIED:20230313T212933Z
UID:7146-1680942600-1680947100@lwsra.org
SUMMARY:LWSRF Bunny Breakfast
DESCRIPTION:The Lincolnway Special Recreation Foundation invites you to celebrate with the Easter Bunny! This year’s activities include photos with the bunny\, delicious breakfast\, egg hunt\, face painting\, holiday crafts and games! Purchase tickets for one of three time slots.
URL:https://lwsra.org/event/bunny-breakfast-2023/
LOCATION:LWSRC\, 1900 Heather Glen Dr\, New Lenox\, IL\, 60451\, United States
CATEGORIES:Community Events,Family Events,Featured,Foundation Events,Fundraisers
ATTACH;FMTTYPE=image/png:https://lwsra.org/wp-content/uploads/2023/01/egg.png
ORGANIZER;CN="Lincolnway Special Recreation Foundation":MAILTO:foundation@lwsra.org
END:VEVENT
BEGIN:VEVENT
DTSTART;TZID=America/Chicago:20230408T083000
DTEND;TZID=America/Chicago:20230408T094500
DTSTAMP:20260425T212903
CREATED:20230228T204920Z
LAST-MODIFIED:20230313T212933Z
UID:7146-1680942600-1680947100@lwsra.org
SUMMARY:LWSRF Bunny Breakfast
DESCRIPTION:The Lincolnway Special Recreation Foundation invites you to celebrate with the Easter Bunny! This year’s activities include photos with the bunny\, delicious breakfast\, egg hunt\, face painting\, holiday crafts and games! Purchase tickets for one of three time slots.
URL:https://lwsra.org/event/bunny-breakfast-2023/
LOCATION:LWSRC\, 1900 Heather Glen Dr\, New Lenox\, IL\, 60451\, United States
CATEGORIES:Community Events,Family Events,Featured,Foundation Events,Fundraisers
ATTACH;FMTTYPE=image/png:https://lwsra.org/wp-content/uploads/2023/01/egg.png
ORGANIZER;CN="Lincolnway Special Recreation Foundation":MAILTO:foundation@lwsra.org
END:VEVENT
BEGIN:VEVENT
DTSTART;TZID=America/Chicago:20230408T083000
DTEND;TZID=America/Chicago:20230408T094500
DTSTAMP:20260425T212903
CREATED:20230228T204920Z
LAST-MODIFIED:20230313T212933Z
UID:7146-1680942600-1680947100@lwsra.org
SUMMARY:LWSRF Bunny Breakfast
DESCRIPTION:The Lincolnway Special Recreation Foundation invites you to celebrate with the Easter Bunny! This year’s activities include photos with the bunny\, delicious breakfast\, egg hunt\, face painting\, holiday crafts and games! Purchase tickets for one of three time slots.
URL:https://lwsra.org/event/bunny-breakfast-2023/
LOCATION:LWSRC\, 1900 Heather Glen Dr\, New Lenox\, IL\, 60451\, United States
CATEGORIES:Community Events,Family Events,Featured,Foundation Events,Fundraisers
ATTACH;FMTTYPE=image/png:https://lwsra.org/wp-content/uploads/2023/01/egg.png
ORGANIZER;CN="Lincolnway Special Recreation Foundation":MAILTO:foundation@lwsra.org
END:VEVENT
BEGIN:VEVENT
DTSTART;TZID=America/Chicago:20221210T103000
DTEND;TZID=America/Chicago:20221210T154500
DTSTAMP:20260425T212903
CREATED:20221114T041346Z
LAST-MODIFIED:20221114T041448Z
UID:6298-1670668200-1670687100@lwsra.org
SUMMARY:Day with the Grinch
DESCRIPTION:He’s back at it\, ready to steal Christmas! \nDay with the Grinch time slots on Saturday\, December 10th:\nActivities include pizza\, picture with the Grinch\, crafts\, arm painting\, hair dressing\, and much more! Purchase tickets for the whole family at one of the following timeslots: \n10:30-11:45am \n12:15-1:30pm\n2-3:15pm\n3:45-5pm \nA maximum of 200 tickets will be sold per timeslot to encourage a more inclusive setting for families of individuals with disabilities. \nEVENT LOCATION\nLincolnway Special Recreation Center\n1900 Heather Glen Drive\nNew Lenox\, IL 60451 \nSponsorship Opportunities available once you select a timeslot (sponsorships include all event time slots) \nPurchase tickets here: https://bit.ly/grinch2022
URL:https://lwsra.org/event/day-with-the-grinch-2022/
LOCATION:LWSRC\, 1900 Heather Glen Dr\, New Lenox\, IL\, 60451\, United States
CATEGORIES:Community Events,Family Events,Featured,Fundraisers
ATTACH;FMTTYPE=image/png:https://lwsra.org/wp-content/uploads/2022/10/grinch.png
END:VEVENT
BEGIN:VEVENT
DTSTART;TZID=America/Chicago:20220917T120000
DTEND;TZID=America/Chicago:20220917T190000
DTSTAMP:20260425T212903
CREATED:20220614T142711Z
LAST-MODIFIED:20220614T142711Z
UID:4538-1663416000-1663441200@lwsra.org
SUMMARY:LWSRF On the Links 2022 Golf Outing
DESCRIPTION:Proceeds from the event benefit LWSRA\, which provides recreational programs for individuals with disabilities as an extension of seven member park districts. \nSPONSORSHIP OPPORTUNITIES AVAILABLE! \n(sponsors may request a 50% discount code to sponsor sponsor the other outing at equal or lesser value.  \n*Does not include complimentary foursomes) \n\nLWSRF on the Links\nSaturday\, September\, 17\, 2022\nThe Links of Carillon\n21200 W. South Carillon Dr.\nPlainfield\, IL 60544 \nCheck-in: 10:30am\nCoffee\, donuts and complimentary driving range and putting green available until shotgun start.\nShotgun Start: 12:00pm\n18 holes of golf\, contests on the course\, hot dog lunch to-go at the turn and complimentary beverage carts included.\nDinner: 5:30pm\nContest hole and raffle prize winners announced during dinner.\n\nRaffle tickets will be sold throughout the event with prizes to be raffled near the end of dinner.  \nFor additional information\, please email foundation@lwsra.org or call 815.320.3513.
URL:https://lwsra.org/event/lwsrf-on-the-links-2022-golf-outing/
LOCATION:Links at Carillon\, 21200 S Carillon Dr\, Plainfield\, 60544
CATEGORIES:Community Events,Featured,Fundraisers
ORGANIZER;CN="Lincolnway Special Recreation Foundation":MAILTO:foundation@lwsra.org
END:VEVENT
BEGIN:VEVENT
DTSTART;TZID=America/Chicago:20220812T110000
DTEND;TZID=America/Chicago:20220812T180000
DTSTAMP:20260425T212903
CREATED:20220614T142412Z
LAST-MODIFIED:20220614T142412Z
UID:4533-1660302000-1660327200@lwsra.org
SUMMARY:LWSRF 14th Annual Golf Outing
DESCRIPTION:The LWSRF will host its 14th Annual Golf Outing at The Sanctuary Golf Course in New Lenox on Friday\, August 12\, 2022. Proceeds from the event benefit LWSRA\, which provides recreational programs for individuals with disabilities as an extension of seven member park districts. \nSPONSORSHIP OPPORTUNITIES AVAILABLE! \n(sponsors may request a 50% discount code to sponsor sponsor the other outing at equal or lesser value.  \n*Does not include complimentary foursomes) \n\nLWSRF 14th Annual Golf Outing\nFriday\, August\, 12\, 2022\nThe Sanctuary Golf Course\n485 N. Marley Rd.\nNew Lenox\, IL 60451 \nCheck-in: 9:30am\nCoffee\, donuts and complimentary driving range and putting green available until shotgun start.\nShotgun Start: 11:00am\n18 holes of golf\, contests on the course\, hot dog lunch to-go at the turn and complimentary beverage carts included.\nDinner: 4:30pm\nPork chop dinner (outdoor seating)\, contest hole and raffle prize winners announced.\n\nRaffle tickets will be sold throughout the event with prizes to be raffled following dinner.  \nFor additional information\, please email foundation@lwsra.org or call 815.320.3513.
URL:https://lwsra.org/event/lwsrf-14th-annual-golf-outing/
LOCATION:The Sanctuary Golf Course\, 485 N Marley Rd\, New Lenox\, IL\, 60451\, United States
CATEGORIES:Community Events,Featured,Fundraisers
ORGANIZER;CN="Lincolnway Special Recreation Foundation":MAILTO:foundation@lwsra.org
END:VEVENT
BEGIN:VEVENT
DTSTART;TZID=America/Chicago:20220416T090000
DTEND;TZID=America/Chicago:20220416T123000
DTSTAMP:20260425T212903
CREATED:20220322T150303Z
LAST-MODIFIED:20220322T150407Z
UID:3678-1650099600-1650112200@lwsra.org
SUMMARY:Bunny Breakfast and Bunny Baskets
DESCRIPTION:Spend the spring weekend visiting with the Easter bunny! \n  \nIn-person Bunny Breakfast on Saturday\, April 16th \nThis year’s activities include taking pictures with the Easter bunny\, eating a delicious breakfast\, going on an egg hunt\, playing with petting zoo animals\, face painting\, and participating in holiday crafts and games. \n  \nPurchase tickets for the whole family at one of the following timeslots: \n9-10am\n10:15-11:15am\n11:30am-12:30pm \nConsider adding a bunny basket to your order (see below). \nIf you purchase a bunny basket\, pick-up your activity kit on April 16th from 9:30am – 2pm \n\nBunny Baskets:\nTake the fun home! For those interested in adding a bunny basket to their bunny breakfast ticket or looking to solely purchase a bunny basket and not attending the in-person event\, baskets can be picked up on Saturday\, April 16th from 9am-12pm. \nBunny Baskets include activities like making a sock bunny\, eating s’mores with your peeps\, creating shaving cream playdough\, playing jelly bean beanboozled game\, experimenting with elephant toothpaste\, and so much more!
URL:https://lwsra.org/event/bunny-breakfast-and-bunny-baskets/
LOCATION:LWSRC\, 1900 Heather Glen Dr\, New Lenox\, IL\, 60451\, United States
CATEGORIES:Community Events,Featured,Fundraisers
ATTACH;FMTTYPE=image/png:https://lwsra.org/wp-content/uploads/2022/03/image-for-ticketspice.png
ORGANIZER;CN="Lincolnway Special Recreation Foundation":MAILTO:foundation@lwsra.org
END:VEVENT
BEGIN:VEVENT
DTSTART;TZID=America/Chicago:20220313T090000
DTEND;TZID=America/Chicago:20220313T110000
DTSTAMP:20260425T212903
CREATED:20220202T032914Z
LAST-MODIFIED:20220202T033127Z
UID:3186-1647162000-1647169200@lwsra.org
SUMMARY:St. Patrick's Activity Kit Pick-up
DESCRIPTION:LWSRA’s popular activity kits are back for St. Patrick’s Day!\n\n\n\n\n\n\n\n\n\n\n\n\n\n\n\n\n\n\nPurchase your kit here: lwsra.square.site  (Local Pick-up only). \nDrive-Thru pick-up Sunday\, March 13th from 9am-11am\nLincolnway Special Recreation Center (1900 Heather Glen Dr\, New Lenox\, IL) \nSponsorship opportunities available at: https://bit.ly/st-pats2022 \n\n\n\n\n\n\nEach kit includes hands-on activities and scavenger set up instructions for 1 individual. Follow the booklet and complete the scavenger hunt to find the pot of gold. \n(Instructions and all items provided. Parents may make the scavenger hunt more interactive by setting up throughout their home.)
URL:https://lwsra.org/event/st-patricks-activity-kit-2022/
LOCATION:LWSRC\, 1900 Heather Glen Dr\, New Lenox\, IL\, 60451\, United States
CATEGORIES:Community Events,Featured,Fundraisers
ATTACH;FMTTYPE=image/jpeg:https://lwsra.org/wp-content/uploads/2022/02/st-pats-kits-22.jpg
END:VEVENT
BEGIN:VEVENT
DTSTART;TZID=America/Chicago:20220224T170000
DTEND;TZID=America/Chicago:20220228T170000
DTSTAMP:20260425T212903
CREATED:20220208T171156Z
LAST-MODIFIED:20220217T190350Z
UID:3296-1645722000-1646067600@lwsra.org
SUMMARY:Double Good Popcorn Sale
DESCRIPTION:Double Good popcorn is back! This virtual fundraiser is filled with deliciousness! It’s 100% contactless\, and LWSRA keeps 50% of the profit….plus the product ships directly to the buyer. \nTo support LWSRA\, you can create a Pop-Up Store and sell Double Good gourmet popcorn by sharing with family\, friends and your social media platforms! \nPrices range from $18-$59. The popcorn is award-winning and really delicious! Our fundraising window begins on February 24\, 2022\, at 5:00 PM and sales close February 28\, 2022\, at 5:00 PM. \n  \nTo create your store\, before the fundraiser begins: \n\nDownload the Double Good app\nEnter our Event Code CIGBVQ in the app\nCreate your Pop-Up Store\n\nThe app is available for free on iOS and Android. \nBonus: Participants/Families that create a store can earn HAWKS BUCKS for their future program fees! A portion of the money LWSRA earns from your store’s sales will be added to your Hawks Bucks account or applied towards your existing balance. \n  \n 
URL:https://lwsra.org/event/double-good-popcorn-sale-2022/
LOCATION:Double Good – Virtual Fundraiser
CATEGORIES:Featured,Fundraisers
ATTACH;FMTTYPE=image/jpeg:https://lwsra.org/wp-content/uploads/2022/02/DG.jpg
END:VEVENT
BEGIN:VEVENT
DTSTART;TZID=America/Chicago:20210915T110000
DTEND;TZID=America/Chicago:20210915T200000
DTSTAMP:20260425T212903
CREATED:20210913T205149Z
LAST-MODIFIED:20210913T205448Z
UID:2881-1631703600-1631736000@lwsra.org
SUMMARY:Eat and Earn Fundraiser - Beggar's Pizza Mokena
DESCRIPTION:Give back by ordering pizza! On September 15\, 2021\, when you dine-in or carry out from Beggar’s Pizza in Mokena\, show this flyer to  get 20% of your sale donated back to LWSRF!
URL:https://lwsra.org/event/eat-and-earn-fundraiser-beggars-pizza-mokena/
LOCATION:Beggars Pizza – Mokena\, 9515 W 191st St\, Mokena\, IL\, 60448\, United States
CATEGORIES:Featured,Fundraisers
END:VEVENT
BEGIN:VEVENT
DTSTART;TZID=America/Chicago:20210820T120000
DTEND;TZID=America/Chicago:20210820T183000
DTSTAMP:20260425T212903
CREATED:20210628T025526Z
LAST-MODIFIED:20210628T025743Z
UID:2207-1629460800-1629484200@lwsra.org
SUMMARY:LWSRF On the Links Golf Outing
DESCRIPTION:The 1Lincolnway Special Recreation Foundation is excited to announce its second golf outing in 2021\, LWSRF On the Links. Sponsorship opportunities are available. \nSponsorship opportunities are available for both outings starting at just $75. As a special\, sponsor one outing and you will receive a code to continue your sponsorship for the other outing at half price! (*excludes complimentary foursomes). \nClick here to register or Sponsor the LWSRF On the Links Golf Outing. \n  \nCheck-in: 10:30am\nCoffee\, donuts and complimentary driving range and putting green available until shotgun start.\nShotgun Start: 12:00pm\n18 holes of golf\, contests on the course\, hot dog lunch to-go at the turn and complimentary beverage carts included.\nDinner: 5:30pm\nContest hole and raffle prize winners announced during dinner.\n\nRaffle tickets will be sold throughout the event with prizes to be raffled near the end of dinner. 
URL:https://lwsra.org/event/lwsrf-on-the-links-golf-outing/
LOCATION:Links at Carillon\, 21200 S Carillon Dr\, Plainfield\, 60544
CATEGORIES:Community Events,Featured,Fundraisers
ORGANIZER;CN="Lincolnway Special Recreation Foundation":MAILTO:foundation@lwsra.org
END:VEVENT
BEGIN:VEVENT
DTSTART;TZID=America/Chicago:20210813T110000
DTEND;TZID=America/Chicago:20210813T173000
DTSTAMP:20260425T212903
CREATED:20210628T024707Z
LAST-MODIFIED:20210628T025857Z
UID:2200-1628852400-1628875800@lwsra.org
SUMMARY:LWSR Foundation 13th Annual Golf Outing
DESCRIPTION:The 13th Annual Lincolnway Special Recreation Foundation Golf Outing returns on Friday\, August 13th! Sponsorship opportunities are available. \nGolfer spots are sold out for the August 13th outing\, however spaces are still available for the Friday\, August 20th outing on the Links at Carillon. \nSponsorship opportunities are available for both outings starting at just $75. As a special\, sponsor one outing and you will receive a code to continue your sponsorship for the other outing at half price! (*excludes complimentary foursomes). \nClick here to register or Sponsor the 13th Annual Golf Outing. \n  \nCheck-in: 9:30am\nCoffee\, donuts and complimentary driving range and putting green available until shotgun start.\nShotgun Start: 11:00am\n18 holes of golf\, contests on the course\, hot dog lunch to-go at the turn and complimentary beverage carts included.\nDinner: 4:30pm\nPork chop dinner (outdoor seating)\, contest hole and raffle prize winners announced.\n\nRaffle tickets will be sold throughout the event with prizes to be raffled following dinner. 
URL:https://lwsra.org/event/lwsr-foundation-13th-annual-golf-outing/
LOCATION:The Sanctuary Golf Course\, 485 N Marley Rd\, New Lenox\, IL\, 60451\, United States
CATEGORIES:Community Events,Featured,Fundraisers
ORGANIZER;CN="Lincolnway Special Recreation Foundation":MAILTO:foundation@lwsra.org
END:VEVENT
END:VCALENDAR