BEGIN:VCALENDAR
VERSION:2.0
PRODID:-//Lincolnway Special Recreation Association - ECPv6.15.20//NONSGML v1.0//EN
CALSCALE:GREGORIAN
METHOD:PUBLISH
X-WR-CALNAME:Lincolnway Special Recreation Association
X-ORIGINAL-URL:https://lwsra.org
X-WR-CALDESC:Events for Lincolnway Special Recreation Association
REFRESH-INTERVAL;VALUE=DURATION:PT1H
X-Robots-Tag:noindex
X-PUBLISHED-TTL:PT1H
BEGIN:VTIMEZONE
TZID:America/Chicago
BEGIN:DAYLIGHT
TZOFFSETFROM:-0600
TZOFFSETTO:-0500
TZNAME:CDT
DTSTART:20200308T080000
END:DAYLIGHT
BEGIN:STANDARD
TZOFFSETFROM:-0500
TZOFFSETTO:-0600
TZNAME:CST
DTSTART:20201101T070000
END:STANDARD
BEGIN:DAYLIGHT
TZOFFSETFROM:-0600
TZOFFSETTO:-0500
TZNAME:CDT
DTSTART:20210314T080000
END:DAYLIGHT
BEGIN:STANDARD
TZOFFSETFROM:-0500
TZOFFSETTO:-0600
TZNAME:CST
DTSTART:20211107T070000
END:STANDARD
BEGIN:DAYLIGHT
TZOFFSETFROM:-0600
TZOFFSETTO:-0500
TZNAME:CDT
DTSTART:20220313T080000
END:DAYLIGHT
BEGIN:STANDARD
TZOFFSETFROM:-0500
TZOFFSETTO:-0600
TZNAME:CST
DTSTART:20221106T070000
END:STANDARD
BEGIN:DAYLIGHT
TZOFFSETFROM:-0600
TZOFFSETTO:-0500
TZNAME:CDT
DTSTART:20230312T080000
END:DAYLIGHT
BEGIN:STANDARD
TZOFFSETFROM:-0500
TZOFFSETTO:-0600
TZNAME:CST
DTSTART:20231105T070000
END:STANDARD
END:VTIMEZONE
BEGIN:VEVENT
DTSTART;TZID=America/Chicago:20220910T113000
DTEND;TZID=America/Chicago:20220910T133000
DTSTAMP:20260425T211558
CREATED:20220819T180047Z
LAST-MODIFIED:20220831T201156Z
UID:4848-1662809400-1662816600@lwsra.org
SUMMARY:Family Day Picnic with SSSRA
DESCRIPTION:LWSRA & SSSRA are teaming up for a Family Picnic to say thank you for your continued support of both of our agencies. Meet your neighboring SRA friends\, grab a bite to eat\, and enjoy the beautiful outdoors. Lunch provided by Wiley’s Grill of Flossmoor (hotdogs\, hamburgers\, baked beans\, chips\, and dessert). Play bocce ball\, corn hole\, water balloon toss and more! \nStaff supervision is not provided. \nEvent is Free but please register in CommunityPass: \nhttps://register.capturepoint.com/reg/cat_program_list_detail.cfm?season_id=24315&program_id=1766797
URL:https://lwsra.org/event/family-day-picnic-with-sssra-2022/
LOCATION:Hecht Park\, 9310 Birch Ave\, Mokena\, IL\, 60448\, United States
CATEGORIES:Community Events,Featured,Programs
ATTACH;FMTTYPE=image/png:https://lwsra.org/wp-content/uploads/2022/08/Family-Day-picnic-with-sssra.png
END:VEVENT
BEGIN:VEVENT
DTSTART;TZID=America/Chicago:20220812T110000
DTEND;TZID=America/Chicago:20220812T180000
DTSTAMP:20260425T211558
CREATED:20220614T142412Z
LAST-MODIFIED:20220614T142412Z
UID:4533-1660302000-1660327200@lwsra.org
SUMMARY:LWSRF 14th Annual Golf Outing
DESCRIPTION:The LWSRF will host its 14th Annual Golf Outing at The Sanctuary Golf Course in New Lenox on Friday\, August 12\, 2022. Proceeds from the event benefit LWSRA\, which provides recreational programs for individuals with disabilities as an extension of seven member park districts. \nSPONSORSHIP OPPORTUNITIES AVAILABLE! \n(sponsors may request a 50% discount code to sponsor sponsor the other outing at equal or lesser value.  \n*Does not include complimentary foursomes) \n\nLWSRF 14th Annual Golf Outing\nFriday\, August\, 12\, 2022\nThe Sanctuary Golf Course\n485 N. Marley Rd.\nNew Lenox\, IL 60451 \nCheck-in: 9:30am\nCoffee\, donuts and complimentary driving range and putting green available until shotgun start.\nShotgun Start: 11:00am\n18 holes of golf\, contests on the course\, hot dog lunch to-go at the turn and complimentary beverage carts included.\nDinner: 4:30pm\nPork chop dinner (outdoor seating)\, contest hole and raffle prize winners announced.\n\nRaffle tickets will be sold throughout the event with prizes to be raffled following dinner.  \nFor additional information\, please email foundation@lwsra.org or call 815.320.3513.
URL:https://lwsra.org/event/lwsrf-14th-annual-golf-outing/
LOCATION:The Sanctuary Golf Course\, 485 N Marley Rd\, New Lenox\, IL\, 60451\, United States
CATEGORIES:Community Events,Featured,Fundraisers
ORGANIZER;CN="Lincolnway Special Recreation Foundation":MAILTO:foundation@lwsra.org
END:VEVENT
BEGIN:VEVENT
DTSTART;TZID=America/Chicago:20220522T100000
DTEND;TZID=America/Chicago:20220522T130000
DTSTAMP:20260425T211558
CREATED:20220212T040729Z
LAST-MODIFIED:20220212T040958Z
UID:3366-1653213600-1653224400@lwsra.org
SUMMARY:Ability Awareness Fair
DESCRIPTION:Ability Awareness Flyer 2022 \nVisit the LWSRA ability awareness fair for your one stop shop to learn about disability services. \nATTENDEES (FREE – Please RSVP below) Numerous vendors will be on hand to present valuable resources to the community for those with special needs. Discover new opportunities and services available to support your family needs. \nVENDORS ($25 – Please register below) Vendors are needed for this event to help educate parents\, guardians\, family members\, teachers and therapists of the various services and resources available. Bring promotional items/flyers\, etc. to pass out to event attendees. \n 
URL:https://lwsra.org/event/ability-awareness-fair/
LOCATION:LWSRC\, 1900 Heather Glen Dr\, New Lenox\, IL\, 60451\, United States
CATEGORIES:Community Events,Featured
END:VEVENT
BEGIN:VEVENT
DTSTART;TZID=America/Chicago:20220423T183000
DTEND;TZID=America/Chicago:20220423T203000
DTSTAMP:20260425T211558
CREATED:20220321T145251Z
LAST-MODIFIED:20220321T160227Z
UID:3639-1650738600-1650745800@lwsra.org
SUMMARY:LWSRA Drama Club Presents
DESCRIPTION:Take part in an amazing evening of\nentertainment\, brought to you by\nLWSRA’s Drama Club! \nMove and groove as our performers sing\nand dance to several big screen hits. \nDoors Open: 6:30pm \nFirst Show: 6:45pm \nIntermission \nSecond Show: Approx. 7:30pm
URL:https://lwsra.org/event/lwsra-drama-club-presents-4-23-2022/
LOCATION:LWSRC\, 1900 Heather Glen Dr\, New Lenox\, IL\, 60451\, United States
CATEGORIES:Featured,Hawklings Early Childhood,Programs
ATTACH;FMTTYPE=image/jpeg:https://lwsra.org/wp-content/uploads/2022/03/DSC_0106b.jpg
END:VEVENT
BEGIN:VEVENT
DTSTART;TZID=America/Chicago:20220422T183000
DTEND;TZID=America/Chicago:20220422T203000
DTSTAMP:20260425T211558
CREATED:20220321T142400Z
LAST-MODIFIED:20220321T144604Z
UID:3623-1650652200-1650659400@lwsra.org
SUMMARY:LWSRA Drama Club Presents
DESCRIPTION:Take part in an amazing evening of\nentertainment\, brought to you by\nLWSRA’s Drama Club! \nMove and groove as our performers sing\nand dance to several big screen hits. \nDoors Open: 6:30pm \nFirst Show: 6:45pm \nIntermission \nSecond Show: Approx. 7:30pm
URL:https://lwsra.org/event/lwsra-drama-club-presents-4-22-2022/
LOCATION:LWSRC\, 1900 Heather Glen Dr\, New Lenox\, IL\, 60451\, United States
CATEGORIES:Featured,Hawklings Early Childhood,Programs
ATTACH;FMTTYPE=image/jpeg:https://lwsra.org/wp-content/uploads/2022/03/DSC_0583c.jpg
END:VEVENT
BEGIN:VEVENT
DTSTART;TZID=America/Chicago:20220416T090000
DTEND;TZID=America/Chicago:20220416T123000
DTSTAMP:20260425T211558
CREATED:20220322T150303Z
LAST-MODIFIED:20220322T150407Z
UID:3678-1650099600-1650112200@lwsra.org
SUMMARY:Bunny Breakfast and Bunny Baskets
DESCRIPTION:Spend the spring weekend visiting with the Easter bunny! \n  \nIn-person Bunny Breakfast on Saturday\, April 16th \nThis year’s activities include taking pictures with the Easter bunny\, eating a delicious breakfast\, going on an egg hunt\, playing with petting zoo animals\, face painting\, and participating in holiday crafts and games. \n  \nPurchase tickets for the whole family at one of the following timeslots: \n9-10am\n10:15-11:15am\n11:30am-12:30pm \nConsider adding a bunny basket to your order (see below). \nIf you purchase a bunny basket\, pick-up your activity kit on April 16th from 9:30am – 2pm \n\nBunny Baskets:\nTake the fun home! For those interested in adding a bunny basket to their bunny breakfast ticket or looking to solely purchase a bunny basket and not attending the in-person event\, baskets can be picked up on Saturday\, April 16th from 9am-12pm. \nBunny Baskets include activities like making a sock bunny\, eating s’mores with your peeps\, creating shaving cream playdough\, playing jelly bean beanboozled game\, experimenting with elephant toothpaste\, and so much more!
URL:https://lwsra.org/event/bunny-breakfast-and-bunny-baskets/
LOCATION:LWSRC\, 1900 Heather Glen Dr\, New Lenox\, IL\, 60451\, United States
CATEGORIES:Community Events,Featured,Fundraisers
ATTACH;FMTTYPE=image/png:https://lwsra.org/wp-content/uploads/2022/03/image-for-ticketspice.png
ORGANIZER;CN="Lincolnway Special Recreation Foundation":MAILTO:foundation@lwsra.org
END:VEVENT
BEGIN:VEVENT
DTSTART;TZID=America/Chicago:20220313T090000
DTEND;TZID=America/Chicago:20220313T110000
DTSTAMP:20260425T211558
CREATED:20220202T032914Z
LAST-MODIFIED:20220202T033127Z
UID:3186-1647162000-1647169200@lwsra.org
SUMMARY:St. Patrick's Activity Kit Pick-up
DESCRIPTION:LWSRA’s popular activity kits are back for St. Patrick’s Day!\n\n\n\n\n\n\n\n\n\n\n\n\n\n\n\n\n\n\nPurchase your kit here: lwsra.square.site  (Local Pick-up only). \nDrive-Thru pick-up Sunday\, March 13th from 9am-11am\nLincolnway Special Recreation Center (1900 Heather Glen Dr\, New Lenox\, IL) \nSponsorship opportunities available at: https://bit.ly/st-pats2022 \n\n\n\n\n\n\nEach kit includes hands-on activities and scavenger set up instructions for 1 individual. Follow the booklet and complete the scavenger hunt to find the pot of gold. \n(Instructions and all items provided. Parents may make the scavenger hunt more interactive by setting up throughout their home.)
URL:https://lwsra.org/event/st-patricks-activity-kit-2022/
LOCATION:LWSRC\, 1900 Heather Glen Dr\, New Lenox\, IL\, 60451\, United States
CATEGORIES:Community Events,Featured,Fundraisers
ATTACH;FMTTYPE=image/jpeg:https://lwsra.org/wp-content/uploads/2022/02/st-pats-kits-22.jpg
END:VEVENT
BEGIN:VEVENT
DTSTART;TZID=America/Chicago:20220224T170000
DTEND;TZID=America/Chicago:20220228T170000
DTSTAMP:20260425T211558
CREATED:20220208T171156Z
LAST-MODIFIED:20220217T190350Z
UID:3296-1645722000-1646067600@lwsra.org
SUMMARY:Double Good Popcorn Sale
DESCRIPTION:Double Good popcorn is back! This virtual fundraiser is filled with deliciousness! It’s 100% contactless\, and LWSRA keeps 50% of the profit….plus the product ships directly to the buyer. \nTo support LWSRA\, you can create a Pop-Up Store and sell Double Good gourmet popcorn by sharing with family\, friends and your social media platforms! \nPrices range from $18-$59. The popcorn is award-winning and really delicious! Our fundraising window begins on February 24\, 2022\, at 5:00 PM and sales close February 28\, 2022\, at 5:00 PM. \n  \nTo create your store\, before the fundraiser begins: \n\nDownload the Double Good app\nEnter our Event Code CIGBVQ in the app\nCreate your Pop-Up Store\n\nThe app is available for free on iOS and Android. \nBonus: Participants/Families that create a store can earn HAWKS BUCKS for their future program fees! A portion of the money LWSRA earns from your store’s sales will be added to your Hawks Bucks account or applied towards your existing balance. \n  \n 
URL:https://lwsra.org/event/double-good-popcorn-sale-2022/
LOCATION:Double Good – Virtual Fundraiser
CATEGORIES:Featured,Fundraisers
ATTACH;FMTTYPE=image/jpeg:https://lwsra.org/wp-content/uploads/2022/02/DG.jpg
END:VEVENT
BEGIN:VEVENT
DTSTART;TZID=America/Chicago:20211120T090000
DTEND;TZID=America/Chicago:20211120T100000
DTSTAMP:20260425T211558
CREATED:20210914T162449Z
LAST-MODIFIED:20210914T162449Z
UID:2897-1637398800-1637402400@lwsra.org
SUMMARY:Play Pals
DESCRIPTION:Friends\, Fitness\, Fun! Geared towards children age 2-5 with disabilities or sensory needs and their caregivers. Socialize and play with us! \n  \nJoin us at Leigh Creek South Park from 9am-10am as we play and meet other peers and parents. It’s a great way to connect and learn more about LWSRA’s services. (*We will move indoors if inclement weather.) \nCOST: $5 per family (*first time attendees are free). Pay the day of. \nRSVP here: https://bit.ly/playpals-2021 \n  \nFor more information\, contact Nadine Kahl
URL:https://lwsra.org/event/play-pals-11-20/
LOCATION:LWSRC\, 1900 Heather Glen Dr\, New Lenox\, IL\, 60451\, United States
CATEGORIES:Featured,Hawklings Early Childhood,Programs
ATTACH;FMTTYPE=image/jpeg:https://lwsra.org/wp-content/uploads/2021/09/Play-Pals-Fall-2021-Dates.jpg
END:VEVENT
BEGIN:VEVENT
DTSTART;TZID=America/Chicago:20211030T110000
DTEND;TZID=America/Chicago:20211030T130000
DTSTAMP:20260425T211558
CREATED:20211015T154601Z
LAST-MODIFIED:20211015T160021Z
UID:3022-1635591600-1635598800@lwsra.org
SUMMARY:Trunk or Treat 2021
DESCRIPTION:Put on your costume and trick or treat from car to car. Outdoor trick or treating is FREE! \nFamily Fun Pack ($5 per user) gets you access to indoor activities including:\n(children 2 & under and caregivers are free) \n\nmini spook house\nfacepainting\ncraft\ngames and more!\n\n \nFEATURED TRUNKS \nRecognize your business as one of our featured trunks at the 2021 Trunk or Treat brought to you by LWSRA. Your donation helps support recreational programming for individuals with disabilities. \nWith a $50 donation your business will receive: \n\nVerbal recognition at event\nSocial media recognition\n\nWhat you need to do: \n\nDecorate your trunk in a Halloween theme\nBring promotional items to hand out\nprovide candy for 600+ people\n\nContact Nadine Kahl to donate and register (nkahl@lwsra.org)
URL:https://lwsra.org/event/trunk-or-treat-2021/
LOCATION:LWSRC\, 1900 Heather Glen Dr\, New Lenox\, IL\, 60451\, United States
CATEGORIES:Community Events,Featured
END:VEVENT
BEGIN:VEVENT
DTSTART;TZID=America/Chicago:20211023T090000
DTEND;TZID=America/Chicago:20211023T100000
DTSTAMP:20260425T211558
CREATED:20210914T162051Z
LAST-MODIFIED:20210914T162051Z
UID:2893-1634979600-1634983200@lwsra.org
SUMMARY:Play Pals
DESCRIPTION:Friends\, Fitness\, Fun! Geared towards children age 2-5 with disabilities or sensory needs and their caregivers. Socialize and play with us! \n  \nJoin us at Leigh Creek South Park from 9am-10am as we play and meet other peers and parents. It’s a great way to connect and learn more about LWSRA’s services. (*We will move indoors if inclement weather.) \nCOST: $5 per family (*first time attendees are free). Pay the day of. \nRSVP here: https://bit.ly/playpals-2021 \n  \nFor more information\, contact Nadine Kahl
URL:https://lwsra.org/event/play-pals-10-23/
LOCATION:LWSRC\, 1900 Heather Glen Dr\, New Lenox\, IL\, 60451\, United States
CATEGORIES:Featured,Hawklings Early Childhood,Programs
ATTACH;FMTTYPE=image/jpeg:https://lwsra.org/wp-content/uploads/2021/09/Play-Pals-Fall-2021-Dates.jpg
END:VEVENT
BEGIN:VEVENT
DTSTART;TZID=America/Chicago:20210925T090000
DTEND;TZID=America/Chicago:20210925T100000
DTSTAMP:20260425T211558
CREATED:20210914T161812Z
LAST-MODIFIED:20210914T162141Z
UID:2888-1632560400-1632564000@lwsra.org
SUMMARY:Play Pals
DESCRIPTION:Friends\, Fitness\, Fun! Geared towards children age 2-5 with disabilities or sensory needs and their caregivers. Socialize and play with us! \n  \nJoin us at Leigh Creek South Park from 9am-10am as we play and meet other peers and parents. It’s a great way to connect and learn more about LWSRA’s services. (*We will move indoors if inclement weather.) \nCOST: $5 per family (*first time attendees are free). Pay the day of. \nRSVP here: https://bit.ly/playpals-2021 \n  \nFor more information\, contact Nadine Kahl
URL:https://lwsra.org/event/play-pals-9-25/
LOCATION:LWSRC\, 1900 Heather Glen Dr\, New Lenox\, IL\, 60451\, United States
CATEGORIES:Featured,Hawklings Early Childhood,Programs
ATTACH;FMTTYPE=image/jpeg:https://lwsra.org/wp-content/uploads/2021/09/Play-Pals-Fall-2021-Dates.jpg
END:VEVENT
BEGIN:VEVENT
DTSTART;TZID=America/Chicago:20210915T110000
DTEND;TZID=America/Chicago:20210915T200000
DTSTAMP:20260425T211558
CREATED:20210913T205149Z
LAST-MODIFIED:20210913T205448Z
UID:2881-1631703600-1631736000@lwsra.org
SUMMARY:Eat and Earn Fundraiser - Beggar's Pizza Mokena
DESCRIPTION:Give back by ordering pizza! On September 15\, 2021\, when you dine-in or carry out from Beggar’s Pizza in Mokena\, show this flyer to  get 20% of your sale donated back to LWSRF!
URL:https://lwsra.org/event/eat-and-earn-fundraiser-beggars-pizza-mokena/
LOCATION:Beggars Pizza – Mokena\, 9515 W 191st St\, Mokena\, IL\, 60448\, United States
CATEGORIES:Featured,Fundraisers
END:VEVENT
BEGIN:VEVENT
DTSTART;TZID=America/Chicago:20210820T120000
DTEND;TZID=America/Chicago:20210820T183000
DTSTAMP:20260425T211558
CREATED:20210628T025526Z
LAST-MODIFIED:20210628T025743Z
UID:2207-1629460800-1629484200@lwsra.org
SUMMARY:LWSRF On the Links Golf Outing
DESCRIPTION:The 1Lincolnway Special Recreation Foundation is excited to announce its second golf outing in 2021\, LWSRF On the Links. Sponsorship opportunities are available. \nSponsorship opportunities are available for both outings starting at just $75. As a special\, sponsor one outing and you will receive a code to continue your sponsorship for the other outing at half price! (*excludes complimentary foursomes). \nClick here to register or Sponsor the LWSRF On the Links Golf Outing. \n  \nCheck-in: 10:30am\nCoffee\, donuts and complimentary driving range and putting green available until shotgun start.\nShotgun Start: 12:00pm\n18 holes of golf\, contests on the course\, hot dog lunch to-go at the turn and complimentary beverage carts included.\nDinner: 5:30pm\nContest hole and raffle prize winners announced during dinner.\n\nRaffle tickets will be sold throughout the event with prizes to be raffled near the end of dinner. 
URL:https://lwsra.org/event/lwsrf-on-the-links-golf-outing/
LOCATION:Links at Carillon\, 21200 S Carillon Dr\, Plainfield\, 60544
CATEGORIES:Community Events,Featured,Fundraisers
ORGANIZER;CN="Lincolnway Special Recreation Foundation":MAILTO:foundation@lwsra.org
END:VEVENT
BEGIN:VEVENT
DTSTART;TZID=America/Chicago:20210813T110000
DTEND;TZID=America/Chicago:20210813T173000
DTSTAMP:20260425T211558
CREATED:20210628T024707Z
LAST-MODIFIED:20210628T025857Z
UID:2200-1628852400-1628875800@lwsra.org
SUMMARY:LWSR Foundation 13th Annual Golf Outing
DESCRIPTION:The 13th Annual Lincolnway Special Recreation Foundation Golf Outing returns on Friday\, August 13th! Sponsorship opportunities are available. \nGolfer spots are sold out for the August 13th outing\, however spaces are still available for the Friday\, August 20th outing on the Links at Carillon. \nSponsorship opportunities are available for both outings starting at just $75. As a special\, sponsor one outing and you will receive a code to continue your sponsorship for the other outing at half price! (*excludes complimentary foursomes). \nClick here to register or Sponsor the 13th Annual Golf Outing. \n  \nCheck-in: 9:30am\nCoffee\, donuts and complimentary driving range and putting green available until shotgun start.\nShotgun Start: 11:00am\n18 holes of golf\, contests on the course\, hot dog lunch to-go at the turn and complimentary beverage carts included.\nDinner: 4:30pm\nPork chop dinner (outdoor seating)\, contest hole and raffle prize winners announced.\n\nRaffle tickets will be sold throughout the event with prizes to be raffled following dinner. 
URL:https://lwsra.org/event/lwsr-foundation-13th-annual-golf-outing/
LOCATION:The Sanctuary Golf Course\, 485 N Marley Rd\, New Lenox\, IL\, 60451\, United States
CATEGORIES:Community Events,Featured,Fundraisers
ORGANIZER;CN="Lincolnway Special Recreation Foundation":MAILTO:foundation@lwsra.org
END:VEVENT
BEGIN:VEVENT
DTSTART;TZID=America/Chicago:20210807T090000
DTEND;TZID=America/Chicago:20210807T233000
DTSTAMP:20260425T211558
CREATED:20210724T013241Z
LAST-MODIFIED:20210725T222646Z
UID:2293-1628326800-1628379000@lwsra.org
SUMMARY:Fall 2021 Registration Begins
DESCRIPTION:The Fall 2021 Brochure will be available online the first week of August. Online registration opens at 9am on Saturday\, August 7th. \nIf you need assistance registering online\, please contact us using the form below or call 815.320.3500 (9am-12pm on August 7th). \nThe office will be open Monday-Friday 9am-5pm to assist with other registration questions or needs. \nContact Page FormPlease enable JavaScript in your browser to complete this form.Please enable JavaScript in your browser to complete this form.Name *AddressCityStateEmail *ZipPhone *Best TimeContact ByPhoneEmailMessageSubmit
URL:https://lwsra.org/event/fall-registration-begins/
LOCATION:IL
CATEGORIES:Featured,Programs
END:VEVENT
BEGIN:VEVENT
DTSTART;TZID=America/Chicago:20210715T110000
DTEND;TZID=America/Chicago:20210715T130000
DTSTAMP:20260425T211558
CREATED:20210507T210843Z
LAST-MODIFIED:20210630T173954Z
UID:1196-1626346800-1626354000@lwsra.org
SUMMARY:Grand Opening - Leigh Creek South Park
DESCRIPTION:Join us for the Grand Opening of our newest park\, Leigh Creek South Park. Attendees must register at the link below. \nThe park is located in Heatherglen Subdivision off of Heatherglen Drive\, adjacent to Lincolnway Special Recreation Association. The park features an all-inclusive playground\, adaptive softball field\, basketball court\, turf court games\, two shelters and walking paths. Lunch will be provided at this event. Registration deadline is Thursday\, July 8. \nAttendees must register with the New Lenox Community Park District:\nhttps://www.newlenoxparks.org/events/leigh-creek-south-park-grand-opening \n 
URL:https://lwsra.org/event/grand-opening-leigh-creek-south/
LOCATION:LWSRC\, 1900 Heather Glen Dr\, New Lenox\, IL\, 60451\, United States
CATEGORIES:Community Events,Featured
ATTACH;FMTTYPE=image/jpeg:https://lwsra.org/wp-content/uploads/2021/05/leigh-creek-south-sq.jpg
END:VEVENT
BEGIN:VEVENT
DTSTART;TZID=America/Chicago:20210712T180000
DTEND;TZID=America/Chicago:20210712T193000
DTSTAMP:20260425T211558
CREATED:20210507T211009Z
LAST-MODIFIED:20210624T033545Z
UID:1198-1626112800-1626118200@lwsra.org
SUMMARY:Park Party - Frankfort
DESCRIPTION:Join LWSRA and the Frankfort Park District for a free party in the park! This event is free so come out\, unplug and enjoy beautiful Lakeview Estates South Park.
URL:https://lwsra.org/event/park-party-frankfort-2021/
LOCATION:Lakeview Estates South Park\, Madeline Lane and Lakeview Estates Road\, Frankfort\, 60423
CATEGORIES:Community Events,Featured
ATTACH;FMTTYPE=image/jpeg:https://lwsra.org/wp-content/uploads/2021/05/Lakeview-Estates-south-park.jpg
END:VEVENT
BEGIN:VEVENT
DTSTART;VALUE=DATE:20210710
DTEND;VALUE=DATE:20210711
DTSTAMP:20260425T211558
CREATED:20210507T211513Z
LAST-MODIFIED:20210624T032519Z
UID:1199-1625875200-1625961599@lwsra.org
SUMMARY:Unplug Illinois Day
DESCRIPTION:On Saturday\, July 10\, 2021\, Unplug Illinois Day\, gets people throughout Illinois to ditch their electronic devices and plugged into fun and activities at local park and recreation agencies. \nResources to Help You Unplug
URL:https://lwsra.org/event/unplug-2021/
LOCATION:IL
CATEGORIES:Featured
END:VEVENT
END:VCALENDAR